BEGIN:VCALENDAR
VERSION:2.0
PRODID:-//Western Wake Alumnae DST - ECPv6.15.20//NONSGML v1.0//EN
CALSCALE:GREGORIAN
METHOD:PUBLISH
X-WR-CALNAME:Western Wake Alumnae DST
X-ORIGINAL-URL:https://westernwakedst.org
X-WR-CALDESC:Events for Western Wake Alumnae DST
REFRESH-INTERVAL;VALUE=DURATION:PT1H
X-Robots-Tag:noindex
X-PUBLISHED-TTL:PT1H
BEGIN:VTIMEZONE
TZID:America/New_York
BEGIN:DAYLIGHT
TZOFFSETFROM:-0500
TZOFFSETTO:-0400
TZNAME:EDT
DTSTART:20240310T070000
END:DAYLIGHT
BEGIN:STANDARD
TZOFFSETFROM:-0400
TZOFFSETTO:-0500
TZNAME:EST
DTSTART:20241103T060000
END:STANDARD
BEGIN:DAYLIGHT
TZOFFSETFROM:-0500
TZOFFSETTO:-0400
TZNAME:EDT
DTSTART:20250309T070000
END:DAYLIGHT
BEGIN:STANDARD
TZOFFSETFROM:-0400
TZOFFSETTO:-0500
TZNAME:EST
DTSTART:20251102T060000
END:STANDARD
BEGIN:DAYLIGHT
TZOFFSETFROM:-0500
TZOFFSETTO:-0400
TZNAME:EDT
DTSTART:20260308T070000
END:DAYLIGHT
BEGIN:STANDARD
TZOFFSETFROM:-0400
TZOFFSETTO:-0500
TZNAME:EST
DTSTART:20261101T060000
END:STANDARD
END:VTIMEZONE
BEGIN:VEVENT
DTSTART;TZID=America/New_York:20250517T100000
DTEND;TZID=America/New_York:20250517T120000
DTSTAMP:20260422T055025
CREATED:20250514T185858Z
LAST-MODIFIED:20250516T162009Z
UID:6788-1747476000-1747483200@westernwakedst.org
SUMMARY:May Chapter Meeting
DESCRIPTION:Regular chapter meetings are convened on the second Saturday of each month at 10:00 AM Eastern Standard Time\, unless an alternative date or time is announced. These meetings are exclusively for duly initiated members of Delta Sigma Theta Sorority\, Inc. Sorors desiring to attend who are not affiliated with the Western Wake Alumnae Chapter are requested to complete the membership verification form provided below and submit it via email to the Sergeant-At-Arms. \nMembership Verification Form
URL:https://westernwakedst.org/event/may-chapter-meeting/
LOCATION:Willow Spring High School\, 1704 Old Honeycutt Rd\, Fuquay-Varina\, NC\, NC\, 27526\, United States
ATTACH;FMTTYPE=image/png:https://westernwakedst.org/wp-content/uploads/2025/05/unnamed-e1747249121669.png
END:VEVENT
END:VCALENDAR