BEGIN:VCALENDAR
VERSION:2.0
PRODID:-//Western Wake Alumnae DST - ECPv6.15.20//NONSGML v1.0//EN
CALSCALE:GREGORIAN
METHOD:PUBLISH
X-WR-CALNAME:Western Wake Alumnae DST
X-ORIGINAL-URL:https://westernwakedst.org
X-WR-CALDESC:Events for Western Wake Alumnae DST
REFRESH-INTERVAL;VALUE=DURATION:PT1H
X-Robots-Tag:noindex
X-PUBLISHED-TTL:PT1H
BEGIN:VTIMEZONE
TZID:America/New_York
BEGIN:DAYLIGHT
TZOFFSETFROM:-0500
TZOFFSETTO:-0400
TZNAME:EDT
DTSTART:20240310T070000
END:DAYLIGHT
BEGIN:STANDARD
TZOFFSETFROM:-0400
TZOFFSETTO:-0500
TZNAME:EST
DTSTART:20241103T060000
END:STANDARD
BEGIN:DAYLIGHT
TZOFFSETFROM:-0500
TZOFFSETTO:-0400
TZNAME:EDT
DTSTART:20250309T070000
END:DAYLIGHT
BEGIN:STANDARD
TZOFFSETFROM:-0400
TZOFFSETTO:-0500
TZNAME:EST
DTSTART:20251102T060000
END:STANDARD
BEGIN:DAYLIGHT
TZOFFSETFROM:-0500
TZOFFSETTO:-0400
TZNAME:EDT
DTSTART:20260308T070000
END:DAYLIGHT
BEGIN:STANDARD
TZOFFSETFROM:-0400
TZOFFSETTO:-0500
TZNAME:EST
DTSTART:20261101T060000
END:STANDARD
END:VTIMEZONE
BEGIN:VEVENT
DTSTART;TZID=America/New_York:20250503T130000
DTEND;TZID=America/New_York:20250503T163000
DTSTAMP:20260422T055112
CREATED:20250411T154139Z
LAST-MODIFIED:20250411T154139Z
UID:6754-1746277200-1746289800@westernwakedst.org
SUMMARY:A Taste of Culture: Mind\, Body and Soul
DESCRIPTION:An Immersive Cultural Experience designed to celebrate African Heritage through an engaging experience that nourishes the mind\, strengthens the body and uplifts the soul.
URL:https://westernwakedst.org/event/a-taste-of-culture-mind-body-and-soul/
LOCATION:Haddon Hall\, 1101 Hayward Health Lane\, Apex\, NC\, United States
CATEGORIES:Public
ATTACH;FMTTYPE=image/png:https://westernwakedst.org/wp-content/uploads/2025/04/unnamed-e1744386080528.png
END:VEVENT
END:VCALENDAR